BEGIN:VCALENDAR
VERSION:2.0
CALSCALE:GREGORIAN
PRODID:-//Diputació de Barcelona//DibaCMS//EN
BEGIN:VEVENT
UID:3253
DTSTAMP:20260423T044221
DTSTART:20190526T090000
DTEND:20190526T200000
SUMMARY:Eleccions Europees i Locals 2019
LOCATION:Sant Pere Regalat, 18-28 08254 El Pont de Vilomara i Rocafort
METHOD:PUBLISH
X-WR-CALNAME:info.pont@elpont.cat
X-WR-TIMEZONE:Europe/Madrid
DESCRIPTION:El proper diumenge 26 de maig se celebran les Eleccions Europees i Locals 2019.

URI:https://www.elpont.cat/actualitat/agenda/eleccions-europees-i-locals-2019.html
CLASS:PUBLIC
END:VEVENT
END:VCALENDAR
