BEGIN:VCALENDAR
VERSION:2.0
CALSCALE:GREGORIAN
PRODID:-//Diputació de Barcelona//DibaCMS//EN
BEGIN:VEVENT
UID:3256
DTSTAMP:20260423T005735
DTSTART:20190602T113000
DTEND:20190602T113000
SUMMARY:IX Romeria rociera del Pont de Vilomara
LOCATION:Sant Pere Regalat, 18-28 08254 El Pont de Vilomara i Rocafort
METHOD:PUBLISH
X-WR-CALNAME:info.pont@elpont.cat
X-WR-TIMEZONE:Europe/Madrid
DESCRIPTION:11:30 h Concentración en la iglesia Sta. María Magdalena en la Plaza Mayor

11:45 h Misa rociera coro Candela Viva

14:00 h Potage

URI:https://www.elpont.cat/actualitat/agenda/ix-romeria-rociera-del-pont-de-vilomara.html
CLASS:PUBLIC
END:VEVENT
END:VCALENDAR
