BEGIN:VCALENDAR
VERSION:2.0
CALSCALE:GREGORIAN
PRODID:-//Diputació de Barcelona//DibaCMS//EN
BEGIN:VEVENT
UID:3272
DTSTAMP:20260423T064952
DTSTART:20181019T190000
DTEND:20181110T133000
SUMMARY:Exposició de fotografies "El riu és un miratge"
LOCATION:Sant Pere Regalat, 72, baixos 08254 El Pont de Vilomara i Rocafort
METHOD:PUBLISH
X-WR-CALNAME:info.pont@elpont.cat
X-WR-TIMEZONE:Europe/Madrid
DESCRIPTION:Recull de fotografies del projecte que els alumnes de primer de batxillerat de l'Institut Castellet han realitzat amb la col·laboració del fotògraf Joan Villaplana sobre l'entorn del riu Llobregat, els seus paisatges i la seva gent!

URI:https://www.elpont.cat/actualitat/agenda/exposicio-de-fotografies-el-riu-es-un-miratge.html
CLASS:PUBLIC
END:VEVENT
END:VCALENDAR
