BEGIN:VCALENDAR
VERSION:2.0
CALSCALE:GREGORIAN
PRODID:-//Diputació de Barcelona//DibaCMS//EN
BEGIN:VEVENT
UID:3273
DTSTAMP:20260423T050014
DTSTART:20181114T190000
DTEND:20181114T190000
SUMMARY:Xerrada "Endinsa't en la fascinant història d'un mar interior"
LOCATION:Sant Pere Regalat, 72, baixos 08254 El Pont de Vilomara i Rocafort
METHOD:PUBLISH
X-WR-CALNAME:info.pont@elpont.cat
X-WR-TIMEZONE:Europe/Madrid
DESCRIPTION:Fa 36 milions d'anys el centre de Catalunya estava cobert per un mar que va desaparèixer. L'aigua, la sal i el temps han deixat una geologia i un paisatge espectaculars.

URI:https://www.elpont.cat/actualitat/agenda/xerrada-endinsat-en-la-fascinant-historia-dun-mar-interior.html
CLASS:PUBLIC
END:VEVENT
END:VCALENDAR
