BEGIN:VCALENDAR
VERSION:2.0
CALSCALE:GREGORIAN
PRODID:-//Diputació de Barcelona//DibaCMS//EN
BEGIN:VEVENT
UID:3274
DTSTAMP:20260423T045745
DTSTART:20181115T190000
DTEND:20181115T190000
SUMMARY:Presentació del llibre "Epidèmies al Pont de Vilomara i Rocafort a principi del segle XX”
LOCATION:Plaça de l'Ajuntament, 1 08254 El Pont de Vilomara i Rocafort
METHOD:PUBLISH
X-WR-CALNAME:info.pont@elpont.cat
X-WR-TIMEZONE:Europe/Madrid
DESCRIPTION:Presentació del llibre “Epidèmies al Pont de Vilomara i Rocafort a principi del segle XX” d'Armand Rotllan. Comptarà amb l’assistència de Josep Maria Serra, President del Grup Catalana Occident.

URI:https://www.elpont.cat/actualitat/agenda/presentacio-del-llibre-epidemies-al-pont-de-vilomara-i-rocafort-a-principi-del-segle-xx.html
CLASS:PUBLIC
END:VEVENT
END:VCALENDAR
