BEGIN:VCALENDAR
VERSION:2.0
CALSCALE:GREGORIAN
PRODID:-//Diputació de Barcelona//DibaCMS//EN
BEGIN:VEVENT
UID:3275
DTSTAMP:20260423T084103
DTSTART:20181117T170000
DTEND:20181117T170000
SUMMARY:Benvinguda nadons 2018, presentació del consell d'infants i segon mercat d'intercanvi de joguines
LOCATION:Sant Pere Regalat, 18-28 08254 El Pont de Vilomara i Rocafort
METHOD:PUBLISH
X-WR-CALNAME:info.pont@elpont.cat
X-WR-TIMEZONE:Europe/Madrid
DESCRIPTION:
	Benvinguda als nadons nascuts al 2018.
	Presentació del Consell d'Infants 2018-2019 del municipi.
	Tarda de jocs i tallers infantils.
	II Mercat d'Intercanvi de Joguines (activitat inclosa dins de la Setmana Europea de Prevenció de Residus).


URI:https://www.elpont.cat/actualitat/agenda/benvinguda-nadons-2018-presentacio-del-consell-dinfants-i-segon-mercat-dintercanvi-de-joguines.html
CLASS:PUBLIC
END:VEVENT
END:VCALENDAR
