BEGIN:VCALENDAR
VERSION:2.0
CALSCALE:GREGORIAN
PRODID:-//Diputació de Barcelona//DibaCMS//EN
BEGIN:VEVENT
UID:3276
DTSTAMP:20260423T072643
DTSTART:20181117T110000
DTEND:20181117T110000
SUMMARY:Taller de construcció de robots (re-bots)
LOCATION:Sant Pere Regalat, 72, baixos 08254 El Pont de Vilomara i Rocafort
METHOD:PUBLISH
X-WR-CALNAME:info.pont@elpont.cat
X-WR-TIMEZONE:Europe/Madrid
DESCRIPTION:Taller de construcció de robots amb materials reciclats i naturals, adreçat a nens i nenes a partir de 6 anys.

Taller inclòs dins la Setmana Europea de la Prevenció de Residus. També està inclòs dins el II Cap de Setmana de la Infància.

URI:https://www.elpont.cat/actualitat/agenda/taller-de-construccio-de-robots-re-bots.html
CLASS:PUBLIC
END:VEVENT
END:VCALENDAR
