BEGIN:VCALENDAR
VERSION:2.0
CALSCALE:GREGORIAN
PRODID:-//Diputació de Barcelona//DibaCMS//EN
BEGIN:VEVENT
UID:3277
DTSTAMP:20260423T062152
DTSTART:20181118T170000
DTEND:20181118T170000
SUMMARY:Espectacle infantil i familiar "Danses esbojarrades"
LOCATION:Sant Pere Regalat, 18-28 08254 El Pont de Vilomara i Rocafort
METHOD:PUBLISH
X-WR-CALNAME:info.pont@elpont.cat
X-WR-TIMEZONE:Europe/Madrid
DESCRIPTION:La família Trap és l’encarregada d’oferir-vos un espectacle únic, fresc dinàmic i molt divertit de danses i cançons que fan ballar a grans i xics.

URI:https://www.elpont.cat/actualitat/agenda/espectacle-infantil-i-familiar-danses-esbojarrades.html
CLASS:PUBLIC
END:VEVENT
END:VCALENDAR
