BEGIN:VCALENDAR
VERSION:2.0
CALSCALE:GREGORIAN
PRODID:-//Diputació de Barcelona//DibaCMS//EN
BEGIN:VEVENT
UID:3278
DTSTAMP:20260423T084028
DTSTART:20181118T110000
DTEND:20181118T110000
SUMMARY:Segona duatló familiar - activitat anul•lada
LOCATION:Carrer 4 del Marquet Paradís 
METHOD:PUBLISH
X-WR-CALNAME:info.pont@elpont.cat
X-WR-TIMEZONE:Europe/Madrid
DESCRIPTION:Activitat anul·lada

URI:https://www.elpont.cat/actualitat/agenda/3278-segona-duatlo-familiar-activitat-anullada.html
CLASS:PUBLIC
END:VEVENT
END:VCALENDAR
