BEGIN:VCALENDAR
VERSION:2.0
CALSCALE:GREGORIAN
PRODID:-//Diputació de Barcelona//DibaCMS//EN
BEGIN:VEVENT
UID:3279
DTSTAMP:20260423T045350
DTSTART:20181121T150000
DTEND:20181121T150000
SUMMARY:Taller "Escriure per sentir-te millor"
LOCATION:Sant Pere Regalat, 72, baixos 08254 El Pont de Vilomara i Rocafort
METHOD:PUBLISH
X-WR-CALNAME:info.pont@elpont.cat
X-WR-TIMEZONE:Europe/Madrid
DESCRIPTION:En aquest taller, l'escriptora Laia Fàbregas, ens introdueix en el món de l'escriptura com a eina terapèutica per a potenciar la nostra creativitat i sobretot, per a canalitzar les nostres emocions.

Activitat inclosa dins el programa d'actes del Dia Internacional per l'Eliminació de la Violència vers les Dones.

URI:https://www.elpont.cat/actualitat/agenda/taller-escriure-per-sentir-te-millor.html
CLASS:PUBLIC
END:VEVENT
END:VCALENDAR
