BEGIN:VCALENDAR
VERSION:2.0
CALSCALE:GREGORIAN
PRODID:-//Diputació de Barcelona//DibaCMS//EN
BEGIN:VEVENT
UID:3280
DTSTAMP:20260423T024528
DTSTART:20181122T163000
DTEND:20181122T163000
SUMMARY:Programa gent gran activa "Ball amb Xarop de Nit"
LOCATION:Plaça Margarida, s/n. 08254 El Pont de Vilomara i Rocafort
METHOD:PUBLISH
X-WR-CALNAME:info.pont@elpont.cat
X-WR-TIMEZONE:Europe/Madrid
DESCRIPTION:Ball amb Xarop de Nit

URI:https://www.elpont.cat/actualitat/agenda/programa-gent-gran-activa-ball-amb-xarop-de-nit.html
CLASS:PUBLIC
END:VEVENT
END:VCALENDAR
