BEGIN:VCALENDAR
VERSION:2.0
CALSCALE:GREGORIAN
PRODID:-//Diputació de Barcelona//DibaCMS//EN
BEGIN:VEVENT
UID:3282
DTSTAMP:20260423T024641
DTSTART:20181124T110000
DTEND:20181124T110000
SUMMARY:Taller de construcció d'instruments (Fàbrica de sons)
LOCATION:Sant Pere Regalat, 72, baixos 08254 El Pont de Vilomara i Rocafort
METHOD:PUBLISH
X-WR-CALNAME:info.pont@elpont.cat
X-WR-TIMEZONE:Europe/Madrid
DESCRIPTION:Taller de construcció d'instruments musicals amb materials reciclats i naturals.

Taller inclòs dins la Setmana Europea de la Prevenció de Residus.

URI:https://www.elpont.cat/actualitat/agenda/taller-de-construccio-dinstruments-fabrica-de-sons.html
CLASS:PUBLIC
END:VEVENT
END:VCALENDAR
