BEGIN:VCALENDAR
VERSION:2.0
CALSCALE:GREGORIAN
PRODID:-//Diputació de Barcelona//DibaCMS//EN
BEGIN:VEVENT
UID:3283
DTSTAMP:20260423T003102
DTSTART:20181125T163000
DTEND:20181125T163000
SUMMARY:Acte i lectura del manifest institucional del dia internacional per l'eliminació de la violència contra les dones
LOCATION:Plaça Major 08254 El Pont de Vilomara i Rocafort
METHOD:PUBLISH
X-WR-CALNAME:info.pont@elpont.cat
X-WR-TIMEZONE:Europe/Madrid
DESCRIPTION:Acte amenitzat per la coral del municipi Clau de So.

URI:https://www.elpont.cat/actualitat/agenda/acte-i-lectura-del-manifest-institucional-del-dia-internacional-per-leliminacio-de-la-violencia-contra-les-dones.html
CLASS:PUBLIC
END:VEVENT
END:VCALENDAR
