BEGIN:VCALENDAR
VERSION:2.0
CALSCALE:GREGORIAN
PRODID:-//Diputació de Barcelona//DibaCMS//EN
BEGIN:VEVENT
UID:3284
DTSTAMP:20260423T044604
DTSTART:20181125T170000
DTEND:20181125T170000
SUMMARY:Taller de reflexió sobre violència "Veus"
LOCATION:Sant Pere Regalat, 18-28 08254 El Pont de Vilomara i Rocafort
METHOD:PUBLISH
X-WR-CALNAME:info.pont@elpont.cat
X-WR-TIMEZONE:Europe/Madrid
DESCRIPTION:Projecte creatiu de l'Associació Teatral Mousike amb el que es vol sensibilitzar la societat sobre la violència de gènere donant una dimensió pública a la veu de les dones que han estat maltractades i denunciant els estereotips repressius masclistes.

Activitat inclosa dins el programa d'actes del Dia Internacional per l'Eliminació de la Violència vers les Dones.

URI:https://www.elpont.cat/actualitat/agenda/taller-de-reflexio-sobre-violencia-veus.html
CLASS:PUBLIC
END:VEVENT
END:VCALENDAR
