BEGIN:VCALENDAR
VERSION:2.0
CALSCALE:GREGORIAN
PRODID:-//Diputació de Barcelona//DibaCMS//EN
BEGIN:VEVENT
UID:3285
DTSTAMP:20260423T065345
DTSTART:20181128T150000
DTEND:20181128T150000
SUMMARY:Xerrada-taller "Coneixer-nos per empoderar-nos"
LOCATION:Sant Pere Regalat, 72, baixos 08254 El Pont de Vilomara i Rocafort
METHOD:PUBLISH
X-WR-CALNAME:info.pont@elpont.cat
X-WR-TIMEZONE:Europe/Madrid
DESCRIPTION:En aquesta xerrada-taller, la psicòloga i coach Gemma Calmet, ens ajudarà a  posar el focus d'atenció en nosaltres mateixes per aprendre a escoltar-nos i respectar-nos, així com treballar l'autoestima i legitimar el nostres sentiments.

Activitat inclosa dins el programa d'actes del Dia Internacional per l'Eliminació de la Violència vers les Dones.

URI:https://www.elpont.cat/actualitat/agenda/xerrada-taller-coneixer-nos-per-empoderar-nos.html
CLASS:PUBLIC
END:VEVENT
END:VCALENDAR
