BEGIN:VCALENDAR
VERSION:2.0
CALSCALE:GREGORIAN
PRODID:-//Diputació de Barcelona//DibaCMS//EN
BEGIN:VEVENT
UID:3286
DTSTAMP:20260423T021415
DTSTART:20181201T110000
DTEND:20181201T110000
SUMMARY:Bibliolabs: Dibuixem amb llum
LOCATION:Sant Pere Regalat, 72, baixos 08254 El Pont de Vilomara i Rocafort
METHOD:PUBLISH
X-WR-CALNAME:info.pont@elpont.cat
X-WR-TIMEZONE:Europe/Madrid
DESCRIPTION:Taller Familiar amb infants de 4 a 10 anys on es construirà una llanterna senzilla amb leds per pintar en la foscor.

URI:https://www.elpont.cat/actualitat/agenda/bibliolabs-dibuixem-amb-llum.html
CLASS:PUBLIC
END:VEVENT
END:VCALENDAR
