BEGIN:VCALENDAR
VERSION:2.0
CALSCALE:GREGORIAN
PRODID:-//Diputació de Barcelona//DibaCMS//EN
BEGIN:VEVENT
UID:3287
DTSTAMP:20260423T014047
DTSTART:20181203T203000
DTEND:20181203T203000
SUMMARY:Ple extraordinari del dia 3 de desembre de 2018
LOCATION:Plaça de l'Ajuntament, 1 08254 El Pont de Vilomara i Rocafort
METHOD:PUBLISH
X-WR-CALNAME:info.pont@elpont.cat
X-WR-TIMEZONE:Europe/Madrid
DESCRIPTION:A la Sala de Plens

URI:https://www.elpont.cat/actualitat/agenda/3287-ple-extraordinari-del-dia-3-de-desembre-de-2018.html
CLASS:PUBLIC
END:VEVENT
END:VCALENDAR
