BEGIN:VCALENDAR
VERSION:2.0
CALSCALE:GREGORIAN
PRODID:-//Diputació de Barcelona//DibaCMS//EN
BEGIN:VEVENT
UID:3288
DTSTAMP:20260423T030027
DTSTART:20181205T150000
DTEND:20181205T150000
SUMMARY:Tertúlia literària i tast de cafès
LOCATION:Sant Pere Regalat, 72, baixos 08254 El Pont de Vilomara i Rocafort
METHOD:PUBLISH
X-WR-CALNAME:info.pont@elpont.cat
X-WR-TIMEZONE:Europe/Madrid
DESCRIPTION:Tertúlia literària sobre la novel·la "Les set aromes del món" d'Alfred Bosch ambientada en l'Europa del s. XVII quan el cafè era la beguda de moda.

Trobada especial a la seu de Cafès del Bages amb una visita guiada per les seves instal·lacions i un tast de cafès.

URI:https://www.elpont.cat/actualitat/agenda/tertulia-literaria-i-tast-de-cafes.html
CLASS:PUBLIC
END:VEVENT
END:VCALENDAR
