BEGIN:VCALENDAR
VERSION:2.0
CALSCALE:GREGORIAN
PRODID:-//Diputació de Barcelona//DibaCMS//EN
BEGIN:VEVENT
UID:3290
DTSTAMP:20260423T062303
DTSTART:20181129T000000
DTEND:20181209T000000
SUMMARY:Exposició de fotografies "Paisatges Literaris"
LOCATION:Sant Pere Regalat, 72, baixos 08254 El Pont de Vilomara i Rocafort
METHOD:PUBLISH
X-WR-CALNAME:info.pont@elpont.cat
X-WR-TIMEZONE:Europe/Madrid
DESCRIPTION:Proposta fotogràfica que emparella cites de 20 obres literàries de diferents autors i autores catalanes amb una fotografies que les il·lustra.

L'exposició, obra del fotògraf Carles Rodríguez Marín, es podrà visitar en horari de biblioteca del 29 de novembre al 9 de desembre.

URI:https://www.elpont.cat/actualitat/agenda/exposicio-de-fotografies-paisatges-literaris.html
CLASS:PUBLIC
END:VEVENT
END:VCALENDAR
