BEGIN:VCALENDAR
VERSION:2.0
CALSCALE:GREGORIAN
PRODID:-//Diputació de Barcelona//DibaCMS//EN
BEGIN:VEVENT
UID:3291
DTSTAMP:20260423T014552
DTSTART:20181129T000000
DTEND:20181211T000000
SUMMARY:Inscripcions al casal de Nadal: el misteri de l'Estrella d'Orient
LOCATION:Plaça de l'Ajuntament, 1 08254 El Pont de Vilomara i Rocafort
METHOD:PUBLISH
X-WR-CALNAME:info.pont@elpont.cat
X-WR-TIMEZONE:Europe/Madrid
DESCRIPTION:
URI:https://www.elpont.cat/actualitat/agenda/inscripcions-al-casal-de-nadal-el-misteri-de-lestrella-dorient.html
CLASS:PUBLIC
END:VEVENT
END:VCALENDAR
