BEGIN:VCALENDAR
VERSION:2.0
CALSCALE:GREGORIAN
PRODID:-//Diputació de Barcelona//DibaCMS//EN
BEGIN:VEVENT
UID:3292
DTSTAMP:20260423T014226
DTSTART:20181210T100000
DTEND:20181210T133000
SUMMARY:Oficina mòbil d'informació al consumidor
LOCATION:Al mercat municipal del carrer Jesús 
METHOD:PUBLISH
X-WR-CALNAME:info.pont@elpont.cat
X-WR-TIMEZONE:Europe/Madrid
DESCRIPTION:L’Ajuntament del Pont de Vilomara i Rocafort i la Diputació de Barcelona organitzen, de forma conjunta, una visita de l’oficina mòbil d’informació al consumidor per atendre, de forma gratuïta i personalitzada, les vostres consultes i oferir-vos informació i assessorament sobre temes de consum:

Assegurances, serveis bancaris, serveis a domicili, serveis turístics, habitatge, subministraments bàsics…

URI:https://www.elpont.cat/actualitat/agenda/3292-oficina-mobil-dinformacio-al-consumidor.html
CLASS:PUBLIC
END:VEVENT
END:VCALENDAR
