BEGIN:VCALENDAR
VERSION:2.0
CALSCALE:GREGORIAN
PRODID:-//Diputació de Barcelona//DibaCMS//EN
BEGIN:VEVENT
UID:3293
DTSTAMP:20260423T014247
DTSTART:20181213T190000
DTEND:20181213T190000
SUMMARY:Presentació del llibre "Flors damunt la taula"
LOCATION:Mestre Saura, 5-B El Pont de Vilomara i Rocafort
METHOD:PUBLISH
X-WR-CALNAME:info.pont@elpont.cat
X-WR-TIMEZONE:Europe/Madrid
DESCRIPTION:Amb la presència de les seves autores: la vilomarenca Lluïsa Albadalejo i la periodista Aina Font

URI:https://www.elpont.cat/actualitat/agenda/presentacio-del-llibre-flors-damunt-la-taula.html
CLASS:PUBLIC
END:VEVENT
END:VCALENDAR
