BEGIN:VCALENDAR
VERSION:2.0
CALSCALE:GREGORIAN
PRODID:-//Diputació de Barcelona//DibaCMS//EN
BEGIN:VEVENT
UID:3294
DTSTAMP:20260423T045940
DTSTART:20181215T110000
DTEND:20181215T110000
SUMMARY:Bibliolabs: Origami màgic
LOCATION:Sant Pere Regalat, 72, baixos 08254 El Pont de Vilomara i Rocafort
METHOD:PUBLISH
X-WR-CALNAME:info.pont@elpont.cat
X-WR-TIMEZONE:Europe/Madrid
DESCRIPTION:Taller de papiroflèxia amb circuits elèctrics adreçat a nens i nenes de 7 a 12 anys.

Places limitades, cal inscripció prèvia

URI:https://www.elpont.cat/actualitat/agenda/bibliolabs-origami-magic.html
CLASS:PUBLIC
END:VEVENT
END:VCALENDAR
