BEGIN:VCALENDAR
VERSION:2.0
CALSCALE:GREGORIAN
PRODID:-//Diputació de Barcelona//DibaCMS//EN
BEGIN:VEVENT
UID:3295
DTSTAMP:20260423T045815
DTSTART:20181216T000000
DTEND:20181216T000000
SUMMARY:El Pont de Vilomara i Rocafort amb La Marató de TV3
LOCATION:Plaça Major 08254 El Pont de Vilomara i Rocafort
METHOD:PUBLISH
X-WR-CALNAME:info.pont@elpont.cat
X-WR-TIMEZONE:Europe/Madrid
DESCRIPTION:
URI:https://www.elpont.cat/actualitat/agenda/3295-el-pont-de-vilomara-i-rocafort-amb-la-marato-de-tv3.html
CLASS:PUBLIC
END:VEVENT
END:VCALENDAR
