BEGIN:VCALENDAR
VERSION:2.0
CALSCALE:GREGORIAN
PRODID:-//Diputació de Barcelona//DibaCMS//EN
BEGIN:VEVENT
UID:3296
DTSTAMP:20260423T045851
DTSTART:20181219T150000
DTEND:20181219T150000
SUMMARY:Festes nadalenques 2018 - Taller de Nadal per a joves i adults
LOCATION:Sant Pere Regalat, 72, baixos 08254 El Pont de Vilomara i Rocafort
METHOD:PUBLISH
X-WR-CALNAME:info.pont@elpont.cat
X-WR-TIMEZONE:Europe/Madrid
DESCRIPTION:
URI:https://www.elpont.cat/actualitat/agenda/festes-nadalenques-2018-taller-de-nadal-per-a-joves-i-adults.html
CLASS:PUBLIC
END:VEVENT
END:VCALENDAR
