BEGIN:VCALENDAR
VERSION:2.0
CALSCALE:GREGORIAN
PRODID:-//Diputació de Barcelona//DibaCMS//EN
BEGIN:VEVENT
UID:3298
DTSTAMP:20260423T053343
DTSTART:20181204T000000
DTEND:20181225T000000
SUMMARY:Exposició "Escoles d'altres mons"
LOCATION:Sant Pere Regalat, 72, baixos 08254 El Pont de Vilomara i Rocafort
METHOD:PUBLISH
X-WR-CALNAME:info.pont@elpont.cat
X-WR-TIMEZONE:Europe/Madrid
DESCRIPTION:A partir de 50 fotografies del fotoperiodista  Kim Manresa ens apropem a escoles, mestres i alumnes de més de 30 països d’arreu del món.

Aquesta exposició itinerant de la Diputació de Barcelona es podrà visitar en horari de biblioteca del 4 al 24 de desembre.

La inauguració, oberta a tothom,  tindrà lloc el dimarts 4 de desembre a les 4 de la tarda i comptarà amb una visita guiada especial a càrrec del comissari de l'exposició Carlos Hernesto García i l'assistència del Diputat Delegat Rafael Homet.

URI:https://www.elpont.cat/actualitat/agenda/exposicio-escoles-daltres-mons.html
CLASS:PUBLIC
END:VEVENT
END:VCALENDAR
