BEGIN:VCALENDAR
VERSION:2.0
CALSCALE:GREGORIAN
PRODID:-//Diputació de Barcelona//DibaCMS//EN
BEGIN:VEVENT
UID:3300
DTSTAMP:20260423T061934
DTSTART:20181224T203000
DTEND:20181224T203000
SUMMARY:Festes nadalenques 2018 - Missa del gall
LOCATION:Plaça Major, s/n 08254 El Pont de Vilomara i Rocafort
METHOD:PUBLISH
X-WR-CALNAME:info.pont@elpont.cat
X-WR-TIMEZONE:Europe/Madrid
DESCRIPTION:
URI:https://www.elpont.cat/actualitat/agenda/festes-nadalenques-2018-missa-del-gall.html
CLASS:PUBLIC
END:VEVENT
END:VCALENDAR
