BEGIN:VCALENDAR
VERSION:2.0
CALSCALE:GREGORIAN
PRODID:-//Diputació de Barcelona//DibaCMS//EN
BEGIN:VEVENT
UID:3301
DTSTAMP:20260423T045708
DTSTART:20181224T220000
DTEND:20181224T220000
SUMMARY:Festes nadalenques 2018 - Missa del gall a Rocafort
LOCATION:Església de Rocafort 
METHOD:PUBLISH
X-WR-CALNAME:info.pont@elpont.cat
X-WR-TIMEZONE:Europe/Madrid
DESCRIPTION:
URI:https://www.elpont.cat/actualitat/agenda/festes-nadalenques-2018-missa-del-gall-a-rocafort.html
CLASS:PUBLIC
END:VEVENT
END:VCALENDAR
