BEGIN:VCALENDAR
VERSION:2.0
CALSCALE:GREGORIAN
PRODID:-//Diputació de Barcelona//DibaCMS//EN
BEGIN:VEVENT
UID:3303
DTSTAMP:20260423T073734
DTSTART:20181225T104500
DTEND:20181225T104500
SUMMARY:Festes nadalenques 2018 - Missa de Nadal
LOCATION:
METHOD:PUBLISH
X-WR-CALNAME:info.pont@elpont.cat
X-WR-TIMEZONE:Europe/Madrid
DESCRIPTION:
URI:https://www.elpont.cat/actualitat/agenda/festes-nadalenques-2018-missa-de-nadal.html
CLASS:PUBLIC
END:VEVENT
END:VCALENDAR
