BEGIN:VCALENDAR
VERSION:2.0
CALSCALE:GREGORIAN
PRODID:-//Diputació de Barcelona//DibaCMS//EN
BEGIN:VEVENT
UID:3306
DTSTAMP:20260423T090145
DTSTART:20181228T163000
DTEND:20181228T193000
SUMMARY:Festes nadalenques 2018 - Parc de Nadal infantil
LOCATION:Sant Jeroni, 12-14  08254 El Pont de Vilomara i Rocafort
METHOD:PUBLISH
X-WR-CALNAME:info.pont@elpont.cat
X-WR-TIMEZONE:Europe/Madrid
DESCRIPTION:
URI:https://www.elpont.cat/actualitat/agenda/3306-festes-nadalenques-2018-parc-de-nadal-infantil.html
CLASS:PUBLIC
END:VEVENT
END:VCALENDAR
