BEGIN:VCALENDAR
VERSION:2.0
CALSCALE:GREGORIAN
PRODID:-//Diputació de Barcelona//DibaCMS//EN
BEGIN:VEVENT
UID:3308
DTSTAMP:20260423T072800
DTSTART:20181229T173000
DTEND:20181229T190000
SUMMARY:Festes nadalenques 2018 - Arribada del Príncep Sacha i xocolatada al Pont de Vilomara
LOCATION:Plaça Major 08254 El Pont de Vilomara i Rocafort
METHOD:PUBLISH
X-WR-CALNAME:info.pont@elpont.cat
X-WR-TIMEZONE:Europe/Madrid
DESCRIPTION:
URI:https://www.elpont.cat/actualitat/agenda/festes-nadalenques-2018-arribada-del-princep-sacha-i-xocolatada-al-pont-de-vilomara.html
CLASS:PUBLIC
END:VEVENT
END:VCALENDAR
