BEGIN:VCALENDAR
VERSION:2.0
CALSCALE:GREGORIAN
PRODID:-//Diputació de Barcelona//DibaCMS//EN
BEGIN:VEVENT
UID:3309
DTSTAMP:20260423T074754
DTSTART:20190105T183000
DTEND:20190105T183000
SUMMARY:Festes nadalenques 2018 - Arribada dels Reis Mags d'Orient
LOCATION:Plaça de l'Ajuntament 
METHOD:PUBLISH
X-WR-CALNAME:info.pont@elpont.cat
X-WR-TIMEZONE:Europe/Madrid
DESCRIPTION:Entrega de la clau del poble per part de l'Alcalde des del balcó de l'Ajuntament.

Seguidament, cavalcada pel poble sortint des de la Plaça de l'Ajuntament.

URI:https://www.elpont.cat/actualitat/agenda/festes-nadalenques-2018-arribada-dels-reis-mags-dorient.html
CLASS:PUBLIC
END:VEVENT
END:VCALENDAR
