BEGIN:VCALENDAR
VERSION:2.0
CALSCALE:GREGORIAN
PRODID:-//Diputació de Barcelona//DibaCMS//EN
BEGIN:VEVENT
UID:3310
DTSTAMP:20260423T085110
DTSTART:20190105T203000
DTEND:20190105T203000
SUMMARY:Festes nadalenques 2018 - Arribada dels Reis Mags d'Orient a Rocafort
LOCATION:Carrers de Rocafort 
METHOD:PUBLISH
X-WR-CALNAME:info.pont@elpont.cat
X-WR-TIMEZONE:Europe/Madrid
DESCRIPTION:Cercavila pels carrers de Rocafort

URI:https://www.elpont.cat/actualitat/agenda/festes-nadalenques-2018-arribada-dels-reis-mags-dorient-a-rocafort.html
CLASS:PUBLIC
END:VEVENT
END:VCALENDAR
