BEGIN:VCALENDAR
VERSION:2.0
CALSCALE:GREGORIAN
PRODID:-//Diputació de Barcelona//DibaCMS//EN
BEGIN:VEVENT
UID:3311
DTSTAMP:20260423T061946
DTSTART:20190105T110000
DTEND:20190105T130000
SUMMARY:Festes nadalenques 2018 - Recollida de regals per la cavalcada de Reis
LOCATION:Sant Pere Regalat, 18-28 08254 El Pont de Vilomara i Rocafort
METHOD:PUBLISH
X-WR-CALNAME:info.pont@elpont.cat
X-WR-TIMEZONE:Europe/Madrid
DESCRIPTION:
URI:https://www.elpont.cat/actualitat/agenda/festes-nadalenques-2018-recollida-de-regals-per-la-cavalcada-de-reis.html
CLASS:PUBLIC
END:VEVENT
END:VCALENDAR
