BEGIN:VCALENDAR
VERSION:2.0
CALSCALE:GREGORIAN
PRODID:-//Diputació de Barcelona//DibaCMS//EN
BEGIN:VEVENT
UID:3313
DTSTAMP:20260423T084141
DTSTART:20190119T120000
DTEND:20190119T120000
SUMMARY:Biblioteques amb DO: Xerrada "Les vinyes del Pont de Vilomara i Rocafort, una mirada al passat"
LOCATION:Sant Pere Regalat, 72, baixos 08254 El Pont de Vilomara i Rocafort
METHOD:PUBLISH
X-WR-CALNAME:info.pont@elpont.cat
X-WR-TIMEZONE:Europe/Madrid
DESCRIPTION:
URI:https://www.elpont.cat/actualitat/agenda/biblioteques-amb-do-xerrada-les-vinyes-del-pont-de-vilomara-i-rocafort-una-mirada-al-passat.html
CLASS:PUBLIC
END:VEVENT
END:VCALENDAR
