BEGIN:VCALENDAR
VERSION:2.0
CALSCALE:GREGORIAN
PRODID:-//Diputació de Barcelona//DibaCMS//EN
BEGIN:VEVENT
UID:3316
DTSTAMP:20260423T074809
DTSTART:20190126T110000
DTEND:20190126T110000
SUMMARY:Biblioteques amb DO: Taller infantil "Pintura amb vi"
LOCATION:Sant Pere Regalat, 72, baixos 08254 El Pont de Vilomara i Rocafort
METHOD:PUBLISH
X-WR-CALNAME:info.pont@elpont.cat
X-WR-TIMEZONE:Europe/Madrid
DESCRIPTION:A càrrec de Tinta i Vi.

Adreçat a nens i nenes de 6 a 13 anys.

URI:https://www.elpont.cat/actualitat/agenda/biblioteques-amb-do-taller-infantil-pintura-amb-vi.html
CLASS:PUBLIC
END:VEVENT
END:VCALENDAR
