BEGIN:VCALENDAR
VERSION:2.0
CALSCALE:GREGORIAN
PRODID:-//Diputació de Barcelona//DibaCMS//EN
BEGIN:VEVENT
UID:3317
DTSTAMP:20260423T025916
DTSTART:20181210T000000
DTEND:20190128T000000
SUMMARY:Biblioteques amb DO: Concurs fotogràfic a Instagram
LOCATION:
METHOD:PUBLISH
X-WR-CALNAME:info.pont@elpont.cat
X-WR-TIMEZONE:Europe/Madrid
DESCRIPTION:Les biblioteques d’Artés, Avinyó, Ateneu Les Bases de Manresa, Navarcles, El Pont de Vilomara i Rocafort, St. Fruitós de Bages i Súria, juntament amb la DO Pla de Bages organitzem per tercer any un concurs fotogràfic sobre el món del vi i la vinya. Consulteu les bases a les biblioteques a la nostra página de Facebook https://www.facebook.com/bibliotecapontdevilomara o a la DO Pla de Bages!

#vinstagrampladebages2019

URI:https://www.elpont.cat/actualitat/agenda/biblioteques-amb-do-concurs-fotografic-a-instagram.html
CLASS:PUBLIC
END:VEVENT
END:VCALENDAR
