BEGIN:VCALENDAR
VERSION:2.0
CALSCALE:GREGORIAN
PRODID:-//Diputació de Barcelona//DibaCMS//EN
BEGIN:VEVENT
UID:3319
DTSTAMP:20260423T074110
DTSTART:20190131T190000
DTEND:20190131T190000
SUMMARY:Biblioteques amb DO: Concert de petit format amb música d'arrel tradicional catalana sobre la cultura del vi
LOCATION:Sant Pere Regalat, 72, baixos 08254 El Pont de Vilomara i Rocafort
METHOD:PUBLISH
X-WR-CALNAME:info.pont@elpont.cat
X-WR-TIMEZONE:Europe/Madrid
DESCRIPTION:A càrrec de Corrandes són Corrandes.

Acompanyat d'una copa de vi.

Activitat adreçada a joves i adults.

URI:https://www.elpont.cat/actualitat/agenda/biblioteques-amb-do-concert-de-petit-format-amb-musica-darrel-tradicional-catalana-sobre-la-cultura-del-vi.html
CLASS:PUBLIC
END:VEVENT
END:VCALENDAR
