BEGIN:VCALENDAR
VERSION:2.0
CALSCALE:GREGORIAN
PRODID:-//Diputació de Barcelona//DibaCMS//EN
BEGIN:VEVENT
UID:3321
DTSTAMP:20260423T085834
DTSTART:20190112T000000
DTEND:20190201T000000
SUMMARY:Biblioteques amb DO: Exposició "Vibovabé" del grup d'artistes locals del municipi
LOCATION:Sant Pere Regalat, 72, baixos 08254 El Pont de Vilomara i Rocafort
METHOD:PUBLISH
X-WR-CALNAME:info.pont@elpont.cat
X-WR-TIMEZONE:Europe/Madrid
DESCRIPTION:Inauguració: dissabte 12 de gener a les 12 del migdia.
Es podrà visitar en horari de biblioteca.

URI:https://www.elpont.cat/actualitat/agenda/biblioteques-amb-do-exposicio-vibovabe-del-grup-dartistes-locals-del-municipi.html
CLASS:PUBLIC
END:VEVENT
END:VCALENDAR
