BEGIN:VCALENDAR
VERSION:2.0
CALSCALE:GREGORIAN
PRODID:-//Diputació de Barcelona//DibaCMS//EN
BEGIN:VEVENT
UID:3322
DTSTAMP:20260423T100303
DTSTART:20190209T110000
DTEND:20190209T110000
SUMMARY:Taller de carnestoltes
LOCATION:Sant Pere Regalat, 72, baixos 08254 El Pont de Vilomara i Rocafort
METHOD:PUBLISH
X-WR-CALNAME:info.pont@elpont.cat
X-WR-TIMEZONE:Europe/Madrid
DESCRIPTION:Taller on podràs personalitzar la màscara del teu personatge Gènius preferida: escull la Valentina, el Gènius, en PlayMe o en Bit.

Activitat adreçada a infants de 6 a 12 anys.

URI:https://www.elpont.cat/actualitat/agenda/3322-taller-de-carnestoltes.html
CLASS:PUBLIC
END:VEVENT
END:VCALENDAR
