BEGIN:VCALENDAR
VERSION:2.0
CALSCALE:GREGORIAN
PRODID:-//Diputació de Barcelona//DibaCMS//EN
BEGIN:VEVENT
UID:3323
DTSTAMP:20260423T090220
DTSTART:20190216T113000
DTEND:20190216T113000
SUMMARY:Acte en record dels vilomarencs que van patir la Guerra Civil. Homenatge a Francesc Playà Trasserra, supervivent de Mauthausen
LOCATION:Mestre Saura, 5-B El Pont de Vilomara i Rocafort
METHOD:PUBLISH
X-WR-CALNAME:info.pont@elpont.cat
X-WR-TIMEZONE:Europe/Madrid
DESCRIPTION:
URI:https://www.elpont.cat/actualitat/agenda/3323-acte-en-record-dels-vilomarencs-que-van-patir-la-guerra-civil-homenatge-a-francesc-playa-trasserra-supervivent-de-mauthausen.html
CLASS:PUBLIC
END:VEVENT
END:VCALENDAR
