BEGIN:VCALENDAR
VERSION:2.0
CALSCALE:GREGORIAN
PRODID:-//Diputació de Barcelona//DibaCMS//EN
BEGIN:VEVENT
UID:3324
DTSTAMP:20260423T085431
DTSTART:20190219T190000
DTEND:20190219T190000
SUMMARY:Xerrada "Oliveres, ametllers i timó, els camins del parc de secà"
LOCATION:Sant Pere Regalat, 72, baixos 08254 El Pont de Vilomara i Rocafort
METHOD:PUBLISH
X-WR-CALNAME:info.pont@elpont.cat
X-WR-TIMEZONE:Europe/Madrid
DESCRIPTION:A càrrec d'Alba Maench i Marta Morera.

Amb tast de productes del parc.

URI:https://www.elpont.cat/actualitat/agenda/xerrada-oliveres-ametllers-i-timo-els-camins-del-parc-de-seca.html
CLASS:PUBLIC
END:VEVENT
END:VCALENDAR
