BEGIN:VCALENDAR
VERSION:2.0
CALSCALE:GREGORIAN
PRODID:-//Diputació de Barcelona//DibaCMS//EN
BEGIN:VEVENT
UID:3325
DTSTAMP:20260423T100952
DTSTART:20190220T150000
DTEND:20190220T150000
SUMMARY:Taller de costura creativa
LOCATION:Sant Pere Regalat, 72, baixos 08254 El Pont de Vilomara i Rocafort
METHOD:PUBLISH
X-WR-CALNAME:info.pont@elpont.cat
X-WR-TIMEZONE:Europe/Madrid
DESCRIPTION:Taller de manualitats adreçat a joves i adults.

Places limitades, cal inscripció prèvia.

URI:https://www.elpont.cat/actualitat/agenda/taller-de-costura-creativa.html
CLASS:PUBLIC
END:VEVENT
END:VCALENDAR
