BEGIN:VCALENDAR
VERSION:2.0
CALSCALE:GREGORIAN
PRODID:-//Diputació de Barcelona//DibaCMS//EN
BEGIN:VEVENT
UID:3328
DTSTAMP:20260422T234632
DTSTART:20190227T150000
DTEND:20190227T150000
SUMMARY:Visita guiada al Parc del Secà
LOCATION:Parc de Secà 
METHOD:PUBLISH
X-WR-CALNAME:info.pont@elpont.cat
X-WR-TIMEZONE:Europe/Madrid
DESCRIPTION:
URI:https://www.elpont.cat/actualitat/agenda/visita-guiada-al-parc-del-seca.html
CLASS:PUBLIC
END:VEVENT
END:VCALENDAR
