BEGIN:VCALENDAR
VERSION:2.0
CALSCALE:GREGORIAN
PRODID:-//Diputació de Barcelona//DibaCMS//EN
BEGIN:VEVENT
UID:3329
DTSTAMP:20260423T023637
DTSTART:20190301T163000
DTEND:20190301T163000
SUMMARY:Carnestoltes 2019 - Arribada de la Reina Carnestoltes
LOCATION:Sortida des de l'Escola Pompeu Fabra (C/ Jesús) i rua fins al Casal. 
METHOD:PUBLISH
X-WR-CALNAME:info.pont@elpont.cat
X-WR-TIMEZONE:Europe/Madrid
DESCRIPTION:Espectacle d'animació infantil: "Visca la Festa" amb la companyia "Ai Carai".

Hi haurà xocolatada i coca.

URI:https://www.elpont.cat/actualitat/agenda/carnestoltes-2019-arribada-de-la-reina-carnestoltes.html
CLASS:PUBLIC
END:VEVENT
END:VCALENDAR
