BEGIN:VCALENDAR
VERSION:2.0
CALSCALE:GREGORIAN
PRODID:-//Diputació de Barcelona//DibaCMS//EN
BEGIN:VEVENT
UID:3330
DTSTAMP:20260423T044442
DTSTART:20190302T173000
DTEND:20190302T173000
SUMMARY:Carnestoltes 2019 - Gran rua de disfresses
LOCATION:Sortida des de l'escola Pompeu Fabra (C/ Jesús) i arribada a la Plaça de l'Ajuntament 
METHOD:PUBLISH
X-WR-CALNAME:info.pont@elpont.cat
X-WR-TIMEZONE:Europe/Madrid
DESCRIPTION:Amb la Maracuyá Batucada.

URI:https://www.elpont.cat/actualitat/agenda/carnestoltes-2019-gran-rua-de-disfresses.html
CLASS:PUBLIC
END:VEVENT
END:VCALENDAR
