BEGIN:VCALENDAR
VERSION:2.0
CALSCALE:GREGORIAN
PRODID:-//Diputació de Barcelona//DibaCMS//EN
BEGIN:VEVENT
UID:3331
DTSTAMP:20260423T060217
DTSTART:20190302T070000
DTEND:20190302T070000
SUMMARY:Prova de rastre 2019
LOCATION:Punt de trobada: església de Matadars, c/ 1 del Marquet Paradís 
METHOD:PUBLISH
X-WR-CALNAME:info.pont@elpont.cat
X-WR-TIMEZONE:Europe/Madrid
DESCRIPTION:
URI:https://www.elpont.cat/actualitat/agenda/prova-de-rastre-2019.html
CLASS:PUBLIC
END:VEVENT
END:VCALENDAR
