BEGIN:VCALENDAR
VERSION:2.0
CALSCALE:GREGORIAN
PRODID:-//Diputació de Barcelona//DibaCMS//EN
BEGIN:VEVENT
UID:3332
DTSTAMP:20260423T021445
DTSTART:20190306T190000
DTEND:20190306T190000
SUMMARY:Carnestoltes 2019 - Enterrament de la sardina
LOCATION:Sortida des de la Plaça de l'Ajuntament i arribada al Casal 
METHOD:PUBLISH
X-WR-CALNAME:info.pont@elpont.cat
X-WR-TIMEZONE:Europe/Madrid
DESCRIPTION:Acabem la celebració del Carnestoltes i rebem la quaresma enterrant la sardina que ha estat elaborada pels infants que assisteixen al Casal de la Infància "El Molí".

Hi haurà degustació gratuïta de sardines per a totes les persones assistents però caldrà recollir un tiquet gratuit a l'Ajuntament fins dilluns 4 de març.

URI:https://www.elpont.cat/actualitat/agenda/carnestoltes-2019-enterrament-de-la-sardina.html
CLASS:PUBLIC
END:VEVENT
END:VCALENDAR
