BEGIN:VCALENDAR
VERSION:2.0
CALSCALE:GREGORIAN
PRODID:-//Diputació de Barcelona//DibaCMS//EN
BEGIN:VEVENT
UID:3333
DTSTAMP:20260423T035435
DTSTART:20190306T150000
DTEND:20190306T150000
SUMMARY:Dia internacional de les dones - Tertúlia literària sobre la novel•la "Media vida" amb la presència de l'escriptora Care Santos
LOCATION:Sant Pere Regalat, 72, baixos 08254 El Pont de Vilomara i Rocafort
METHOD:PUBLISH
X-WR-CALNAME:info.pont@elpont.cat
X-WR-TIMEZONE:Europe/Madrid
DESCRIPTION:Tertúlia literària sobre la novel·la “Media vida” amb la presència de l’escriptora, Care Santos.

Media vida retrata, a través de la vida de cinc amigues al llarg de trenta anys, una generació de dones que van haver de construir els seus destins a l’Espanya de la dictadura i la Transició, en un moment en què la hipocresia d’aquells que volien mantenir les formes a qualsevol preu es va enfrontar amb noves mirades sobre l’amistat, l’amor i la llibertat.

URI:https://www.elpont.cat/actualitat/agenda/dia-internacional-de-les-dones-tertulia-literaria-sobre-la-novella-media-vida-amb-la-presencia-de-lescriptora-care-santos.html
CLASS:PUBLIC
END:VEVENT
END:VCALENDAR
