BEGIN:VCALENDAR
VERSION:2.0
CALSCALE:GREGORIAN
PRODID:-//Diputació de Barcelona//DibaCMS//EN
BEGIN:VEVENT
UID:3334
DTSTAMP:20260423T022714
DTSTART:20190308T150000
DTEND:20190308T150000
SUMMARY:Dia internacional de les dones - Xerrada "Sexualitat femenina: el camí cap al plaer"
LOCATION:Sant Pere Regalat, 72, baixos 08254 El Pont de Vilomara i Rocafort
METHOD:PUBLISH
X-WR-CALNAME:info.pont@elpont.cat
X-WR-TIMEZONE:Europe/Madrid
DESCRIPTION:Xerrada “Sexualitat femenina: el camí cap al plaer” a càrrec de Mireia Darder, psicoterapèuta Gestalt.

Una bona sexualitat significa salut i benestar, i en aquest sentit es tractaran temes com l’autoestima, les pors, la vergonya, els mites, els valors, etc per connectar i/o reconnectar amb el nostre cos, sexe i plaer!

URI:https://www.elpont.cat/actualitat/agenda/dia-internacional-de-les-dones-xerrada-sexualitat-femenina-el-cami-cap-al-plaer.html
CLASS:PUBLIC
END:VEVENT
END:VCALENDAR
